BEGIN:VCALENDAR
VERSION:2.0
PRODID:icalendar-ruby
CALSCALE:GREGORIAN
METHOD:PUBLISH
BEGIN:VEVENT
DTSTAMP:20260425T170429Z
UID:18e56c3e-fc94-45c2-b286-3c965a49a260
DTSTART:20241025T140000
DTEND:20241027T210000
DESCRIPTION:<p><strong>THE RETURN OF M FEST. ITS BEEN 2 LONG YEARS BUT SA
 ’S BIGGEST CAR FEST IS BACK. CELEBRATING ///M POWER. WITH HOT LAPS\, TES
 T DRIVES\, DRIFT RIDES AND MORE PERFORMANCES. THIS IS MORE THAN A FESTIVAL
 \, THIS IS M FEST. GET YOUR BMW M FESTIVAL TICKETS. </strong></p><p><br></
 p><p>·      Live Music performances</p><p>·      M-Showroom<
 /p><p>·      M-Hot Laps with professional drivers</p><p>·    
   M-Drift Rides with professional drivers</p><p>·      BMW Test D
 rive experiences</p><p>·      Food trucks and stalls</p><p>·   
    M-Beer Garden</p><p>·      M-Kids area</p><p>·      BM
 W Lifestyle Collection store</p><p>·      BMW M car display</p><p>
 ·      BMW Car Club races</p><p><br></p><p>Drive Experiences: BMW S
 elf-drive test drive experiences will be available on the day with a limit
 ed number of slots available each day. A valid driver’s license is requi
 red to participate in self-drive experiences. Indemnity forms must be sign
 ed prior to any vehicle experience. Minors under the age of 12 are not per
 mitted in M-Hot Lap or M-Drift Experiences.</p><p><br></p>
LOCATION:Corner R55 &\, Allandale Rd\, Kyalami\, Midrand\, 1684
SUMMARY:BMW M Festival 2024
URL;VALUE=URI:https://bmwsa.howler.co.za/mfest2024
END:VEVENT
END:VCALENDAR
